BEGIN:VCALENDAR
VERSION:2.0
PRODID:Events Booking
BEGIN:VEVENT
UID:69e7389d8d6b1
SUMMARY:Youth Diploma 2
DESCRIPTION:
LOCATION:Campus The Avenue\, Edinburgh\, Currie EH14 4AS\, UK
DTSTART:20230624T100000Z
DTEND:20230624T180000Z
DTSTAMP:20260421T084309Z
ORGANIZER;CN=Coerver Scotland:MAILTO:noreply@coerverscotland.uk
GEO:55.91116;-3.321671
X-APPLE-STRUCTURED-LOCATION;VALUE=URI;X-ADDRESS=Campus The Avenue\, Edinbur
 gh\, Currie EH14 4AS\, UK;X-APPLE-RADIUS=72;X-TITLE=NATIONAL PERFORMANCE C
 ENTRE Oriam Edinburgh\, EH14 4AS:55.91116;-3.321671
END:VEVENT
END:VCALENDAR