BEGIN:VCALENDAR
VERSION:2.0
PRODID:Events Booking
BEGIN:VEVENT
UID:69e5e8e53a9d3
SUMMARY:ORIAM EDINBURGH - NATIONAL PERFORMANCE CENTRE Oriam Edinburgh\, Cur
 rie EH14 4AS - 900 - 1100
DESCRIPTION:COERVER® PERFORMANCE ACADEMY IMPROVES YOUR
 &nbsp\;
LOCATION:Heriot Watt University\, Currie EH14 4AS\, UK
DTSTART:20221017T080000Z
DTEND:20221117T110000Z
DTSTAMP:20260420T085045Z
ORGANIZER;CN=Coerver Scotland:MAILTO:noreply@coerverscotland.uk
GEO:55.910495;-3.315314
X-APPLE-STRUCTURED-LOCATION;VALUE=URI;X-ADDRESS=Heriot Watt University\, Cu
 rrie EH14 4AS\, UK;X-APPLE-RADIUS=72;X-TITLE=NATIONAL PERFORMANCE CENTRE O
 riam Edinburgh\, Currie EH14 4AS\, UK:55.910495;-3.315314
END:VEVENT
END:VCALENDAR