BEGIN:VCALENDAR
VERSION:2.0
PRODID:Events Booking
BEGIN:VEVENT
UID:69e600026657d
SUMMARY:XMAS NEW YEAR CAMPS IRVINE PLAYERS 2018-2010
DESCRIPTION:
LOCATION:22 Quarry Rd\, Irvine KA12 0TH\, UK
DTSTART:20240103T100000Z
DTEND:20240103T130000Z
DTSTAMP:20260420T102922Z
ORGANIZER;CN=Coerver Scotland:MAILTO:noreply@coerverscotland.uk
GEO:55.618527;-4.666093
X-APPLE-STRUCTURED-LOCATION;VALUE=URI;X-ADDRESS=22 Quarry Rd\, Irvine KA12 
 0TH\, UK;X-APPLE-RADIUS=72;X-TITLE=THE CIRCUIT IRVINE 22 Quarry Rd\, Irvin
 e KA12 0TH:55.618527;-4.666093
END:VEVENT
END:VCALENDAR