BEGIN:VCALENDAR
VERSION:2.0
PRODID:Events Booking
BEGIN:VEVENT
UID:69e8ecdfb960c
SUMMARY:ELITE INTERNATIONAL 2024 (LISBON) Boys Op2
DESCRIPTION:ACCOMODATION&nbsp\; OPTION 2
 10% deposit £149.80
 5 payment
 s of £269.64 (Feb/Mar/Apr/May/Jun)
 ESTORILL-CLUBE DA LOGOS
 3/4-SHARIN
 G FULL BOARD
 3 MEALS PER DAY
 &nbsp\;
 6 nights days-ADVANCED PLAYERS 
 2008/2009/2010/2011
LOCATION:Av. Sabóia 1017\, 2765-420 Estoril\, Portugal
DTSTART:20241012T230000Z
DTEND:20241018T230000Z
DTSTAMP:20260422T154431Z
ORGANIZER;CN=Coerver Scotland:MAILTO:noreply@coerverscotland.uk
GEO:38.708997;-9.405619
X-APPLE-STRUCTURED-LOCATION;VALUE=URI;X-ADDRESS=Av. Sabóia 1017\, 2765-420
  Estoril\, Portugal;X-APPLE-RADIUS=72;X-TITLE=ESTORILL-CLUBE DA LOGOS:38.7
 08997;-9.405619
END:VEVENT
END:VCALENDAR