BEGIN:VCALENDAR
VERSION:2.0
PRODID:Events Booking
BEGIN:VEVENT
UID:69e8eb9cf344a
SUMMARY:ELITE INTERNATIONAL 2024 (LISBON) Boys Op1
DESCRIPTION:ACCOMODATION&nbsp\; OPTION 1
 Full amount.
 ESTORIL - LONDRES
  HOTEL
 3 SHARING FULL BOARD
 3 MEALS PER DAY
 &nbsp\;
 6 nights days-
 ADVANCED PLAYERS 2008/2009/2010/2011
LOCATION:Av. Fausto de Figueiredo 279\, 2765-412 Estoril\, Portugal
DTSTART:20241012T230000Z
DTEND:20241018T230000Z
DTSTAMP:20260422T153908Z
ORGANIZER;CN=Coerver Scotland:MAILTO:noreply@coerverscotland.uk
GEO:38.706933;-9.403753
X-APPLE-STRUCTURED-LOCATION;VALUE=URI;X-ADDRESS=Av. Fausto de Figueiredo 27
 9\, 2765-412 Estoril\, Portugal;X-APPLE-RADIUS=72;X-TITLE=Hotel Londres Es
 toril:38.706933;-9.403753
END:VEVENT
END:VCALENDAR