BEGIN:VCALENDAR
VERSION:2.0
PRODID:Events Booking
BEGIN:VEVENT
UID:69e8ec5cd997b
SUMMARY:ELITE INTERNATIONAL 2024 (LISBON) Girls Op2
DESCRIPTION:ACCOMODATION&nbsp\; OPTION 2
 10% deposit £119.80
 3 payment
 s of £359.40 (Jan/Feb/Mar)
 ESTORILL-CLUBE DA LOGOS
 3/4-SHARING FULL B
 OARD
 3 MEALS PER DAY
 &nbsp\;
 4 nights-ADVANCED PLAYERS 2008/2009/201
 0/2011
LOCATION:Av. Sabóia 1017\, 2765-420 Estoril\, Portugal
DTSTART:20240331T000000Z
DTEND:20240403T230000Z
DTSTAMP:20260422T154220Z
ORGANIZER;CN=Coerver Scotland:MAILTO:noreply@coerverscotland.uk
GEO:38.708997;-9.405619
X-APPLE-STRUCTURED-LOCATION;VALUE=URI;X-ADDRESS=Av. Sabóia 1017\, 2765-420
  Estoril\, Portugal;X-APPLE-RADIUS=72;X-TITLE=ESTORILL-CLUBE DA LOGOS:38.7
 08997;-9.405619
END:VEVENT
END:VCALENDAR