BEGIN:VCALENDAR
VERSION:2.0
PRODID:Events Booking
BEGIN:VEVENT
UID:69e5e8995c45f
SUMMARY:ANY CLUB & TEAM 2017-2010 Cambusdoon Sports Club
DESCRIPTION:2017-2010
LOCATION:2 Burns' Wicket\, Alloway\, Ayr KA7 4NH\, Reino Unido
DTSTART:20240212T090000Z
DTEND:20240212T113000Z
DTSTAMP:20260420T084929Z
ORGANIZER;CN=Coerver Scotland:MAILTO:noreply@coerverscotland.uk
GEO:55.42997;-4.635022
X-APPLE-STRUCTURED-LOCATION;VALUE=URI;X-ADDRESS=2 Burns' Wicket\, Alloway\,
  Ayr KA7 4NH\, Reino Unido;X-APPLE-RADIUS=72;X-TITLE=Cambusdoon Sports Clu
 b:55.42997;-4.635022
END:VEVENT
END:VCALENDAR