BEGIN:VCALENDAR
VERSION:2.0
PRODID:Events Booking
BEGIN:VEVENT
UID:69e5e777c6a59
SUMMARY: OCTOBER CLINICS 2024 KILMARNOCK 930-1530
DESCRIPTION:1 DAY
 
 
 
 2018-2011 (SPLIT INTO AGE GROUPS)
 
 
 
LOCATION:Townholm\, Kilmarnock KA3 1BB\, UK
DTSTART:20241016T083000Z
DTEND:20241016T143000Z
DTSTAMP:20260420T084439Z
ORGANIZER;CN=Coerver Scotland:MAILTO:noreply@coerverscotland.uk
GEO:55.616369;-4.490236
X-APPLE-STRUCTURED-LOCATION;VALUE=URI;X-ADDRESS=Townholm\, Kilmarnock KA3 1
 BB\, UK;X-APPLE-RADIUS=72;X-TITLE=KILMARNOCK Synergy Arena (3G)\, Kilmarno
 ck East Ayrshire KA3 1BB:55.616369;-4.490236
END:VEVENT
END:VCALENDAR