BEGIN:VCALENDAR
VERSION:2.0
PRODID:Events Booking
BEGIN:VEVENT
UID:69e6005572e95
SUMMARY:SUMMER CAMP 2025 - WEST LOTHIAN XCITE LINLITHGOW\, EH49 6SQ 930-123
 0 - JUST FOR GIRLS
DESCRIPTION:
LOCATION:McGinley Way\, Linlithgow EH49 6SQ\, Reino Unido
DTSTART:20250721T083000Z
DTEND:20250725T113000Z
DTSTAMP:20260420T103045Z
ORGANIZER;CN=Coerver Scotland:MAILTO:noreply@coerverscotland.uk
GEO:55.969587;-3.625842
X-APPLE-STRUCTURED-LOCATION;VALUE=URI;X-ADDRESS=McGinley Way\, Linlithgow E
 H49 6SQ\, Reino Unido;X-APPLE-RADIUS=72;X-TITLE=WEST LOTHIAN Xcite LINLITH
 GOW\, McGinley Way\, Linlithgow EH49 6SQ:55.969587;-3.625842
END:VEVENT
END:VCALENDAR