BEGIN:VCALENDAR
VERSION:2.0
PRODID:Events Booking
BEGIN:VEVENT
UID:69e5e732bd158
SUMMARY:WEEKLY / Kilmarnock / Tuesday / 1630-1730 / 2018-2012
DESCRIPTION:Born&nbsp\;
 
 
 
 2020 - 2009
 
 
 
LOCATION:Townholm\, Kilmarnock KA3 1BB\, UK
DTSTART:20260319T163000Z
DTEND:20260819T163000Z
DTSTAMP:20260420T084330Z
ORGANIZER;CN=Coerver Scotland:MAILTO:noreply@coerverscotland.uk
GEO:55.616369;-4.490236
X-APPLE-STRUCTURED-LOCATION;VALUE=URI;X-ADDRESS=Townholm\, Kilmarnock KA3 1
 BB\, UK;X-APPLE-RADIUS=72;X-TITLE=KILMARNOCK Synergy Arena (3G)\, Kilmarno
 ck East Ayrshire KA3 1BB:55.616369;-4.490236
END:VEVENT
END:VCALENDAR