BEGIN:VCALENDAR
VERSION:2.0
PRODID:Events Booking
BEGIN:VEVENT
UID:69e5e6dd73843
SUMMARY:WEEKLY / Cambusdoon / Thursday / 1600-1700 / 2018-2012
DESCRIPTION:Born&nbsp\;
 
 
 
 2021 - 2009
 
 
 
LOCATION:2 Burns' Wicket\, Alloway\, Ayr KA7 4NH\, Reino Unido
DTSTART:20260821T150000Z
DTEND:20260821T160000Z
DTSTAMP:20260420T084205Z
ORGANIZER;CN=Coerver Scotland:MAILTO:noreply@coerverscotland.uk
GEO:55.42997;-4.635022
X-APPLE-STRUCTURED-LOCATION;VALUE=URI;X-ADDRESS=2 Burns' Wicket\, Alloway\,
  Ayr KA7 4NH\, Reino Unido;X-APPLE-RADIUS=72;X-TITLE=Cambusdoon Sports Clu
 b:55.42997;-4.635022
END:VEVENT
END:VCALENDAR