BEGIN:VCALENDAR
VERSION:2.0
PRODID:Events Booking
BEGIN:VEVENT
UID:69e5e6fb737b6
SUMMARY:WEEKLY / Glasgow / Saturday / 1630-1800 / 2018-2012
DESCRIPTION:Born&nbsp\;
 
 
 
 2021 - 2009
 
 
 
LOCATION:282 Craigton Rd\, Glasgow G51 4XG\, Reino Unido
DTSTART:20260823T153000Z
DTEND:20260823T170000Z
DTSTAMP:20260420T084235Z
ORGANIZER;CN=Coerver Scotland:MAILTO:noreply@coerverscotland.uk
GEO:55.852324;-4.326663
X-APPLE-STRUCTURED-LOCATION;VALUE=URI;X-ADDRESS=282 Craigton Rd\, Glasgow G
 51 4XG\, Reino Unido;X-APPLE-RADIUS=72;X-TITLE=BENBURN JUNIORS GOVAN (3G):
 55.852324;-4.326663
END:VEVENT
END:VCALENDAR