BEGIN:VCALENDAR
VERSION:2.0
PRODID:Events Booking
BEGIN:VEVENT
UID:69e5a71297a3f
SUMMARY:FINISHING MASTERCLASS (JAN 2026)
DESCRIPTION:BOYS &amp\; GIRLS 2019-2010
LOCATION:19 Smiddy Brae\, Bo'Ness Rd\, Polmont\, Falkirk\, Falkirk FK2 0XZ\
 , UK
DTSTART:20260117T133000Z
DTEND:20260131T153000Z
DTSTAMP:20231020T093519Z
ORGANIZER;CN=Coerver Scotland:MAILTO:noreply@coerverscotland.uk
GEO:55.999364;-3.705697
X-APPLE-STRUCTURED-LOCATION;VALUE=URI;X-ADDRESS=19 Smiddy Brae\, Bo'Ness Rd
 \, Polmont\, Falkirk\, Falkirk FK2 0XZ\, UK;X-APPLE-RADIUS=72;X-TITLE=Gala
 xy Sports Little Kerse:55.999364;-3.705697
END:VEVENT
END:VCALENDAR