BEGIN:VCALENDAR
VERSION:2.0
PRODID:Events Booking
BEGIN:VEVENT
UID:69e5a6911e159
SUMMARY:High Performance - Ayr - Boys (2014 & 2012): 5:00 – 6:00pm
DESCRIPTION:6TH MAY
 13TH MAY
 20TH MAY&nbsp\;
 27TH MAY
 3RD JUN
 10T
 H JUN
LOCATION:Voluntary Park\, Glenmuir Pl\, Ayr KA8 9RR\, Reino Unido
DTSTART:20260506T160000Z
DTEND:20260610T170000Z
DTSTAMP:20260420T040745Z
ORGANIZER;CN=Coerver Scotland:MAILTO:noreply@coerverscotland.uk
GEO:55.474722;-4.601667
X-APPLE-STRUCTURED-LOCATION;VALUE=URI;X-ADDRESS=Voluntary Park\, Glenmuir P
 l\, Ayr KA8 9RR\, Reino Unido;X-APPLE-RADIUS=72;X-TITLE=AYR SHOOT SOCCER V
 oluntary Park\, Glenmuir Pl\, Ayr KA8 9RR:55.474722;-4.601667
END:VEVENT
END:VCALENDAR