BEGIN:VCALENDAR
VERSION:2.0
PRODID:Events Booking
BEGIN:VEVENT
UID:69e8df2b8217c
SUMMARY:GLENCOE TRAINING CAMP 2026 GIRLS - Payment Option 2
DESCRIPTION:DEPOSITDeposit £198Balance payment on 1 June £370
 &nbsp\;
LOCATION:Glencoe\, Ballachulish PH49\, UK
DTSTART:20260720T230000Z
DTEND:20260722T230000Z
DTSTAMP:20220420T082520Z
ORGANIZER;CN=Coerver Scotland:MAILTO:noreply@coerverscotland.uk
GEO:56.68256;-5.102271
X-APPLE-STRUCTURED-LOCATION;VALUE=URI;X-ADDRESS=Glencoe\, Ballachulish PH49
 \, UK;X-APPLE-RADIUS=72;X-TITLE=GLENCOE:56.68256;-5.102271
END:VEVENT
END:VCALENDAR