BEGIN:VCALENDAR
VERSION:2.0
PRODID:Events Booking
BEGIN:VEVENT
UID:69e5fea0d40ce
SUMMARY:GLENCOE TRAINING CAMP 2026 GIRLS - August - Payment Option 1
DESCRIPTION:EARLY BIRD SIGN UP6 RECURRING PAYMENTS OF £94.66Payment 1 on s
 ign upPayment 2 on the last day of each month(FEB/MAR/APR/MAY/JUNE)
 &nbs
 p\;
LOCATION:Glencoe\, Ballachulish PH49\, UK
DTSTART:20260803T230000Z
DTEND:20260805T230000Z
DTSTAMP:20220420T082520Z
ORGANIZER;CN=Coerver Scotland:MAILTO:noreply@coerverscotland.uk
GEO:56.68256;-5.102271
X-APPLE-STRUCTURED-LOCATION;VALUE=URI;X-ADDRESS=Glencoe\, Ballachulish PH49
 \, UK;X-APPLE-RADIUS=72;X-TITLE=GLENCOE:56.68256;-5.102271
END:VEVENT
END:VCALENDAR