BEGIN:VCALENDAR
VERSION:2.0
PRODID:Events Booking
BEGIN:VEVENT
UID:69e5e817c54a2
SUMMARY:ACADEMY VISIT TO SCOTLAND MEARNS ACADEMY Born 2008-2004
DESCRIPTION:Through our Global Youth Partnership\, we are delighted to brin
 g one of the WORLDS LEADING ACADEMIES SL BENFICA to Coerver® Coaching Sco
 tland Partner Clubs.
LOCATION:Aberdeen Rd\, Laurencekirk AB30 1ZJ\, UK
DTSTART:20190803T123000Z
DTEND:20190804T143000Z
DTSTAMP:20260420T084719Z
ORGANIZER;CN=Coerver Scotland:MAILTO:noreply@coerverscotland.uk
GEO:56.837818;-2.458656
X-APPLE-STRUCTURED-LOCATION;VALUE=URI;X-ADDRESS=Aberdeen Rd\, Laurencekirk 
 AB30 1ZJ\, UK;X-APPLE-RADIUS=72;X-TITLE=Mearns Academy:56.837818;-2.458656
END:VEVENT
END:VCALENDAR