BEGIN:VCALENDAR
VERSION:2.0
PRODID:Events Booking
BEGIN:VEVENT
UID:69e73739e99b3
SUMMARY:FEBRUARY CAMP 2020 MARY ERSKINE SCHOOL 930-1530
DESCRIPTION:
DTSTART:20200210T093000Z
DTEND:20200214T153000Z
DTSTAMP:20260421T083713Z
ORGANIZER;CN=Coerver Scotland:MAILTO:noreply@coerverscotland.uk
END:VEVENT
END:VCALENDAR